BEGIN:VCALENDAR
PRODID:-//MIADI//DE
BEGIN:VEVENT
UID:Brahms-Festival in Lübeck-1359135
SUMMARY:Brahms-Festival in Lübeck
DESCRIPTION:Erlebe Brahms in Lübeck! • mh-luebeck.de/brahms-festival
LOCATION:Altstadt Lübeck, , 23552 Lübeck, Deutschland
DTSTART:20260504T080000
DTEND:20260504T230000
END:VEVENT
END:VCALENDAR