BEGIN:VCALENDAR
PRODID:-//MIADI//DE
BEGIN:VEVENT
UID:Traditionelles Mai-Singen-1358879
SUMMARY:Traditionelles Mai-Singen
DESCRIPTION:Auf dem historischen Lübecker Markt wird mit professioneller Unterstützung gemeinsam in den Mai gesungen. 
LOCATION:Markt am Rathaus, Markt, 23552 Lübeck , Deutschland
DTSTART:20260430T230000
DTEND:20260501T010000
END:VEVENT
END:VCALENDAR