BEGIN:VCALENDAR
PRODID:-//MIADI//DE
BEGIN:VEVENT
UID:Die Danziger Paramente im Dialog-1358588
SUMMARY:Die Danziger Paramente im Dialog
DESCRIPTION:
LOCATION:St. Annen-Museum, St. Annen-Straße 15, 23552 Lübeck, Deutschland
DTSTART:20260819T100000
DTEND:20260819T170000
END:VEVENT
END:VCALENDAR