BEGIN:VCALENDAR
PRODID:-//MIADI//DE
BEGIN:VEVENT
UID: »Helme Heine - Es war einmal ...«   AUSVERKAUFT-1358391
SUMMARY: »Helme Heine - Es war einmal ...«   AUSVERKAUFT
DESCRIPTION:Vernissage im Garten des Günter Grass-Hauses
LOCATION:Günter Grass-Haus, Glockengießerstraße, 23552 Lübeck, Deutschland
DTSTART:20260426T150000
DTEND:20260426T160000
END:VEVENT
END:VCALENDAR