BEGIN:VCALENDAR
PRODID:-//MIADI//DE
BEGIN:VEVENT
UID:Helme Heine - Es war einmal ...-1356759
SUMMARY:Helme Heine - Es war einmal ...
DESCRIPTION:
LOCATION:Günter Grass-Haus, Glockengießerstraße, 23552 Lübeck, Deutschland
DTSTART:20261208T100000
DTEND:20261208T170000
END:VEVENT
END:VCALENDAR