BEGIN:VCALENDAR
PRODID:-//MIADI//DE
BEGIN:VEVENT
UID:Helme Heine - Es war einmal ...-1356602
SUMMARY:Helme Heine - Es war einmal ...
DESCRIPTION:
LOCATION:Günter Grass-Haus, Glockengießerstraße, 23552 Lübeck, Deutschland
DTSTART:20260704T100000
DTEND:20260704T170000
END:VEVENT
END:VCALENDAR