BEGIN:VCALENDAR
PRODID:-//MIADI//DE
BEGIN:VEVENT
UID:Start Platzreifekurs ALL IN | Maritim Golfschule-1356159
SUMMARY:Start Platzreifekurs ALL IN | Maritim Golfschule
DESCRIPTION:Dein unkomplizierter Einstieg in den Golfsport! • maritim-golfpark-ostsee.de
LOCATION:Maritim Golfpark Ostsee\, Warnsdorf/Ratekau bei Travemünde, Schlossstraße 14, 23626 Warnsdorf/Ratekau bei Travemünde, Deutschland
DTSTART:20260801T120000
DTEND:20260801T152000
END:VEVENT
END:VCALENDAR