BEGIN:VCALENDAR
PRODID:-//MIADI//DE
BEGIN:VEVENT
UID:HANSEKULTUR FESTIVAL LÜBECK-1356152
SUMMARY:HANSEKULTUR FESTIVAL LÜBECK
DESCRIPTION:Lübeck feiert im Seefahrerviertel\, feiere mit! • 5.-7. Juni 2026 • hansekulturfestival.de 
LOCATION:Seefahrerviertel rund um Sankt Jakobi, Nördliche Altstadtinsel, 23552 Lübeck, Deutschland
DTSTART:20260605T170000
DTEND:20260605T230000
END:VEVENT
END:VCALENDAR