BEGIN:VCALENDAR
PRODID:-//MIADI//DE
BEGIN:VEVENT
UID:Europäisches Hanse-Ensemble-1356149
SUMMARY:Europäisches Hanse-Ensemble - IMPULSE - Musikimport in die Hansestädte
DESCRIPTION:
LOCATION:St.-Jakobi-Kirche, Jakobikirchhof 3, 23552 Lübeck, Deutschland
DTSTART:20261013T190000
DTEND:20261013T210000
END:VEVENT
END:VCALENDAR