BEGIN:VCALENDAR
PRODID:-//MIADI//DE
BEGIN:VEVENT
UID:»Impulse. Musikimport in die Hansestädte«-1354964
SUMMARY:»Impulse. Musikimport in die Hansestädte«
DESCRIPTION:
LOCATION:St. Jakobi, Jakobikirchhof, 23552 Lübeck, Deutschland
DTSTART:20261013T190000
DTEND:20261013T203000
END:VEVENT
END:VCALENDAR