BEGIN:VCALENDAR
PRODID:-//MIADI//DE
BEGIN:VEVENT
UID:Konzert im Rahmen der Lübecker Psychotherapie-Tage-1354963
SUMMARY:Konzert im Rahmen der Lübecker Psychotherapie-Tage
DESCRIPTION:
LOCATION:Dom zu Lübeck, Domkirchhof, 23552 Lübeck, Deutschland
DTSTART:20261011T200000
DTEND:20261011T210000
END:VEVENT
END:VCALENDAR