BEGIN:VCALENDAR
PRODID:-//MIADI//DE
BEGIN:VEVENT
UID:Bis auf die Knochen-1354008
SUMMARY:Bis auf die Knochen
DESCRIPTION:
LOCATION:Museum für Natur und Umwelt, Musterbahn 8, 23552 Lübeck, Deutschland
DTSTART:20260802T100000
DTEND:20260802T170000
END:VEVENT
END:VCALENDAR