BEGIN:VCALENDAR
PRODID:-//MIADI//DE
BEGIN:VEVENT
UID:Bis auf die Knochen-1353991
SUMMARY:Bis auf die Knochen
DESCRIPTION:
LOCATION:Museum für Natur und Umwelt, Musterbahn 8, 23552 Lübeck, Deutschland
DTSTART:20260606T100000
DTEND:20260606T170000
END:VEVENT
END:VCALENDAR