BEGIN:VCALENDAR
PRODID:-//MIADI//DE
BEGIN:VEVENT
UID:Bis auf die Knochen-1353899
SUMMARY:Bis auf die Knochen
DESCRIPTION:
LOCATION:Museum für Natur und Umwelt, Musterbahn 8, 23552 Lübeck, Deutschland
DTSTART:20260514T090000
DTEND:20260514T170000
END:VEVENT
END:VCALENDAR