BEGIN:VCALENDAR
PRODID:-//MIADI//DE
BEGIN:VEVENT
UID:»Die Wege Bachs«. Johann Sebastian Bach: Messe h-Moll BWV 232-1353605
SUMMARY:»Die Wege Bachs«. Johann Sebastian Bach: Messe h-Moll BWV 232
DESCRIPTION:
LOCATION:Dom zu Lübeck, Domkirchhof, 23552 Lübeck, Deutschland
DTSTART:20260530T180000
DTEND:20260530T200000
END:VEVENT
END:VCALENDAR