BEGIN:VCALENDAR
PRODID:-//MIADI//DE
BEGIN:VEVENT
UID:Trave-Taucher-Technik - ohne Taucher geht es nicht !-1351561
SUMMARY:Trave-Taucher-Technik - ohne Taucher geht es nicht !
DESCRIPTION:Öffentliche Führung
LOCATION:Industriemuseum Geschichtswerkstatt Herrenwyk, Kokerstraße 1-3, 23569 Lübeck, Deutschland
DTSTART:20261011T110000
DTEND:20261011T120000
END:VEVENT
END:VCALENDAR