BEGIN:VCALENDAR
PRODID:-//MIADI//DE
BEGIN:VEVENT
UID:Suche impotenten Mann fürs Leben-1351104
SUMMARY:Suche impotenten Mann fürs Leben - Kömödie
DESCRIPTION:Komödie nach dem Bestseller von Gaby Hauptmann mit Dominique Siassia\, Marie Zielcke\, Hugo Grimm und Kristof Stößel\n
LOCATION:Theatersaal an der Jacob-Lienau-Schule, Schulstraße 2, 23730 Neustadt in Holstein, Deutschland
DTSTART:20260925T200000
DTEND:20260925T220000
END:VEVENT
END:VCALENDAR