BEGIN:VCALENDAR
PRODID:-//MIADI//DE
BEGIN:VEVENT
UID:Bee happy! Lübeck schützt sich vor den Klimafolgen-1351051
SUMMARY:Bee happy! Lübeck schützt sich vor den Klimafolgen
DESCRIPTION:Infoveranstaltung rund um die Themen Biodiversität Klimaanpassung und Stadtklima mit wertvollen Tipps wie jeder Balkon und jeder Vorgarten einen Beitrag zu einem lebendigen und lebenswerten QUartier leisten kann.
LOCATION:Gemeinderäume St. Matthäi, Westhoffstr. 80, 23554 Lübeck, Deutschland
DTSTART:20260423T180000
DTEND:20260423T193000
END:VEVENT
END:VCALENDAR