BEGIN:VCALENDAR
PRODID:-//MIADI//DE
BEGIN:VEVENT
UID:Offenes Singen in Berkenthin-1350963
SUMMARY:Offenes Singen in Berkenthin
DESCRIPTION:Entspanntes Beisammensein. Bekannte und unbekannte Lieder aus jedem Genre. Für das leibliche Wohl ist gesorgt
LOCATION:Maria-Magdalenen-Kirche, Kirchenstraße 4, 23919 Berkenthin, Deutschland
DTSTART:20260925T183000
DTEND:20260925T000000
END:VEVENT
END:VCALENDAR