BEGIN:VCALENDAR
PRODID:-//MIADI//DE
BEGIN:VEVENT
UID:Sprachkurse an der VHS Lübeck-1350927
SUMMARY:Sprachkurse an der VHS Lübeck - Programmbereich Fremdsprachen
DESCRIPTION:Fremdsprachen sind zum unverzichtbaren Bestandteil einer erfolgreichen Biographie geworden.
LOCATION:VHS Lübeck | Hüxstraße, Hüxstraße 118-120, 23552 Lübeck, Deutschland
DTSTART:20260102T000100
DTEND:20260701T005900
END:VEVENT
END:VCALENDAR