BEGIN:VCALENDAR
PRODID:-//MIADI//DE
BEGIN:VEVENT
UID:Land der Morgendämmerung oder Asian Tiger? -1350736
SUMMARY:Land der Morgendämmerung oder Asian Tiger? 
DESCRIPTION:Südkorea zwischen Schamanismus und Hightech
LOCATION:Industriemuseum Geschichtswerkstatt Herrenwyk, Kokerstraße 1-3, 23569 Lübeck, Deutschland
DTSTART:20261120T140000
DTEND:20261120T170000
END:VEVENT
END:VCALENDAR