BEGIN:VCALENDAR
PRODID:-//MIADI//DE
BEGIN:VEVENT
UID:Figurentheater - Spiel des Lebens-1350509
SUMMARY:Figurentheater - Spiel des Lebens
DESCRIPTION:Was bedeutet Figurentheater eigentlich? Wo beginnt es und wo endet es? Die Kunst des Figurentheaters entspringt der menschlichen Lust\, Objekten Leben einzuhauchen. 
LOCATION:KOLK 17 Figurentheater & Museum, Kolk 14, 23552 Lübeck, Deutschland
DTSTART:20260502T100000
DTEND:20260502T170000
END:VEVENT
END:VCALENDAR