BEGIN:VCALENDAR
PRODID:-//MIADI//DE
BEGIN:VEVENT
UID:Jazz zwischen Torte und Tatort : Roberto Bossard New Group-1350376
SUMMARY:Jazz zwischen Torte und Tatort : Roberto Bossard New Group
DESCRIPTION:
LOCATION:KuB - hist. Rathaussaal, Beer-Yaacov-Weg 1, 23843 Bad Oldesloe, Deutschland
DTSTART:20261011T180000
DTEND:20261011T200000
END:VEVENT
END:VCALENDAR