BEGIN:VCALENDAR
PRODID:-//MIADI//DE
BEGIN:VEVENT
UID:Ein Koffer voller Geschichten - Märchen für Kinder-1359192
SUMMARY:Ein Koffer voller Geschichten - Märchen für Kinder - April
DESCRIPTION:Märchenerzählerin Birte Bernstein erzählt Märchen für alle ab 5 Jahren.
LOCATION:Bibliothek der Hansestadt Lübeck, Hundestraße 5-17, 23552 Lübeck, Deutschland
DTSTART:20260424T160000
DTEND:20260424T164500
END:VEVENT
END:VCALENDAR