BEGIN:VCALENDAR
PRODID:-//MIADI//DE
BEGIN:VEVENT
UID:COMEDY by Daisy Ray - The 80&#39;s Edition-1359604
SUMMARY:COMEDY by Daisy Ray - The 80's Edition
DESCRIPTION:
LOCATION:Theaterschiff Lübeck, Willy-Brandt-Allee 10k, 23554 Lübeck, Deutschland
DTSTART:20270210T190000
DTEND:20270210T210000
END:VEVENT
END:VCALENDAR