BEGIN:VCALENDAR
PRODID:-//MIADI//DE
BEGIN:VEVENT
UID:DER GOLDENE SCHLÜSSEL-1348184
SUMMARY:DER GOLDENE SCHLÜSSEL - Weihnachtsmärchen 2026
DESCRIPTION:Weihnachtsmärchen 2026
LOCATION:Comödie Lübeck, Dr.-Julius-Leber-Straße 25, 23552 Lübeck, Deutschland
DTSTART:20261205T163000
DTEND:20261205T174000
END:VEVENT
END:VCALENDAR