BEGIN:VCALENDAR
PRODID:-//MIADI//DE
BEGIN:VEVENT
UID:Stadtführung: Gänge und Höfe im Seefahrerviertel-1347690
SUMMARY:Stadtführung: Gänge und Höfe im Seefahrerviertel
DESCRIPTION:Bummeln Sie mit uns durch die lieblichen Gassen und Höfe und entdecken Sie die versteckten Winkel des Seefahrerviertels.
LOCATION:Buddenbrooks am Markt, Markt 15, 23552 Lübeck, Deutschland
DTSTART:20260714T133000
DTEND:20260714T150000
END:VEVENT
END:VCALENDAR