BEGIN:VCALENDAR
PRODID:-//MIADI//DE
BEGIN:VEVENT
UID:Historische Weihnachtsführung-1351064
SUMMARY:Historische Weihnachtsführung
DESCRIPTION:Alle Jahre wieder nehmen wir Sie mit auf eine Zeitreise durch die Weihnachtsstadt des Nordens! 
LOCATION:Unter dem Holstentor, Holstentorplatz, 23552 Lübeck, Deutschland
DTSTART:20261213T180000
DTEND:20261213T193000
END:VEVENT
END:VCALENDAR