BEGIN:VCALENDAR
PRODID:-//MIADI//DE
BEGIN:VEVENT
UID:Alpaka Wanderungen am Dummersdorfer Ufer-1346427
SUMMARY:Alpaka Wanderungen am Dummersdorfer Ufer
DESCRIPTION:Mit den Alpakas raus in die Natur! • freitags\, samstags und sonntags • naturnah-hof.de
LOCATION:Naturnah-Hof • Familie Filbrandt, Resebergweg 31, 23569 Kücknitz bei Travemünde, Deutschland
DTSTART:20260621T090000
DTEND:20260621T190000
END:VEVENT
END:VCALENDAR