BEGIN:VCALENDAR
PRODID:-//MIADI//DE
BEGIN:VEVENT
UID:Klaviermusik von Franz Schubert, Edvard Grieg und neueren norwegische Komponisten-1344360
SUMMARY:Klaviermusik von Franz Schubert\, Edvard Grieg und neueren norwegische Komponisten
DESCRIPTION:
LOCATION:ATLANTIC GRAND HOTEL, Kaiserallee 2, 23570 Lübeck-Travemünde, Deutschland
DTSTART:20261011T163000
DTEND:20261011T180000
END:VEVENT
END:VCALENDAR