BEGIN:VCALENDAR
PRODID:-//MIADI//DE
BEGIN:VEVENT
UID:Wort zum Alltag mit Orgelmusik (anschl. Kirchenführung)-1342961
SUMMARY:Wort zum Alltag mit Orgelmusik (anschl. Kirchenführung)
DESCRIPTION:Ein "anderer" Blick auf den Tag.
LOCATION:St. Marien, Marienkirchhof 1, 23552 Lübeck, Deutschland
DTSTART:20260924T120000
DTEND:20260924T122000
END:VEVENT
END:VCALENDAR