BEGIN:VCALENDAR
PRODID:-//MIADI//DE
BEGIN:VEVENT
UID:Genussvolles Weihnachtsdinner-1359281
SUMMARY:Genussvolles Weihnachtsdinner
DESCRIPTION:Erlebt festliche Atmosphäre ohne Küchenstress. So schön kann Weihnachten in Travemünde sein. • slowdown-travemuende.de
LOCATION:SlowDown Travemünde, Priwallpromenade 20, 23570 Travemünde, Deutschland
DTSTART:20261224T180000
DTEND:20261224T220000
END:VEVENT
END:VCALENDAR