BEGIN:VCALENDAR
PRODID:-//MIADI//DE
BEGIN:VEVENT
UID:DER HEXER-1342332
SUMMARY:DER HEXER - Krimi von Edgar Wallace
DESCRIPTION:Krimi von Edgar Wallace\n\nHerbstzeit ist Krimizeit in der Comödie Lübeck! 100 Jahre "Der Hexer" - erlebt diesen wahren Krimi-Klassiker in einer neuen\, spannenden Fassung!
LOCATION:Comödie Lübeck, Dr.-Julius-Leber-Straße 25, 23552 Lübeck, Deutschland
DTSTART:20261120T193000
DTEND:20261120T213000
END:VEVENT
END:VCALENDAR