BEGIN:VCALENDAR
PRODID:-//MIADI//DE
BEGIN:VEVENT
UID:Ölgemälde von ChrisTine Löwa | Ausstellung-1347605
SUMMARY:Ölgemälde von ChrisTine Löwa | Ausstellung
DESCRIPTION:Geschichten vom Urlaub am Meer\, von der Stimmung am Strand und von der Lust aufs Segeln. • kunstnet.de
LOCATION:KeineGezeiten in der Villa Mare | Eventlocation\, Restaurant & Strandlounge, Kaiserallee 6, 23570 Travemünde, Deutschland
DTSTART:20261217T130000
DTEND:20261217T220000
END:VEVENT
END:VCALENDAR