BEGIN:VCALENDAR
PRODID:-//MIADI//DE
BEGIN:VEVENT
UID:Candlelight Melodies-1356136
SUMMARY:Candlelight Melodies - Valentinstag
DESCRIPTION:
LOCATION:Theaterschiff Lübeck, Willy-Brandt-Allee 10k, 23554 Lübeck, Deutschland
DTSTART:20270214T183000
DTEND:20270214T193000
END:VEVENT
END:VCALENDAR