BEGIN:VCALENDAR
PRODID:-//MIADI//DE
BEGIN:VEVENT
UID:Candlelight Melodies-1349111
SUMMARY:Candlelight Melodies - Adele & Ed Sheeran
DESCRIPTION:
LOCATION:Theaterschiff Lübeck, Willy-Brandt-Allee 10k, 23554 Lübeck, Deutschland
DTSTART:20261119T190000
DTEND:20261119T200000
END:VEVENT
END:VCALENDAR