BEGIN:VCALENDAR
PRODID:-//MIADI//DE
BEGIN:VEVENT
UID:Candlelight Melodies-1349110
SUMMARY:Candlelight Melodies - Christmas
DESCRIPTION:
LOCATION:Theaterschiff Lübeck, Willy-Brandt-Allee 10k, 23554 Lübeck, Deutschland
DTSTART:20261217T190000
DTEND:20261217T200000
END:VEVENT
END:VCALENDAR