BEGIN:VCALENDAR
PRODID:-//MIADI//DE
BEGIN:VEVENT
UID:Candlelight Melodies-1348340
SUMMARY:Candlelight Melodies - Christmas
DESCRIPTION:
LOCATION:Theaterschiff Lübeck, Willy-Brandt-Allee 10k, 23554 Lübeck, Deutschland
DTSTART:20261216T190000
DTEND:20261216T200000
END:VEVENT
END:VCALENDAR