BEGIN:VCALENDAR
PRODID:-//MIADI//DE
BEGIN:VEVENT
UID:Travemünder Beachhandball-Cup 2026-1335893
SUMMARY:Travemünder Beachhandball-Cup 2026
DESCRIPTION:Sommer\, Strand und Sonne bei spannenden Stunden am Meer! • 19. bis 21. Juni 2026 • travemuendebeachcup.de
LOCATION:Strand an der Nordermole, Strandpromenade, 23570 Travemünde, Deutschland
DTSTART:20260619T090000
DTEND:20260619T180000
END:VEVENT
END:VCALENDAR