BEGIN:VCALENDAR
PRODID:-//MIADI//DE
BEGIN:VEVENT
UID:WEINsommer 2026 in Lübeck-1335690
SUMMARY:WEINsommer 2026 in Lübeck
DESCRIPTION:Das Highlight für Weinliebhaberinnen und Weinliebhaber am langen Pfingstwochenende! • weinsommer.de
LOCATION:Markt am Rathaus, Markt, 23552 Lübeck, Deutschland
DTSTART:20260522T160000
DTEND:20260522T235900
END:VEVENT
END:VCALENDAR