BEGIN:VCALENDAR
PRODID:-//MIADI//DE
BEGIN:VEVENT
UID:Der Grenzspaziergang entlang der ehemaligen Grenze-1358218
SUMMARY:Der Grenzspaziergang entlang der ehemaligen Grenze
DESCRIPTION:Auf Entdeckungstour mit dem Guide Frank Schamuhn. • travemuende-tourismus.de/buchen/erlebnisse/erlebnisse
LOCATION:Treffpunkt: Priwallpromenade\, vor dem Restaurant AHOI, Priwallpromenade 1, 23570 Travemünde, Deutschland
DTSTART:20260718T110000
DTEND:20260718T133000
END:VEVENT
END:VCALENDAR