BEGIN:VCALENDAR
PRODID:-//MIADI//DE
BEGIN:VEVENT
UID:Lübeck Day Pass Plus-1349518
SUMMARY:Lübeck Day Pass Plus
DESCRIPTION:
LOCATION:Hansestadt Lübeck, , 23552 Lübeck, Deutschland
DTSTART:20261116T090000
DTEND:20261116T170000
END:VEVENT
END:VCALENDAR