BEGIN:VCALENDAR
PRODID:-//MIADI//DE
BEGIN:VEVENT
UID:Lübeck Day Pass Plus-1349477
SUMMARY:Lübeck Day Pass Plus
DESCRIPTION:
LOCATION:Hansestadt Lübeck, , 23552 Lübeck, Deutschland
DTSTART:20261006T090000
DTEND:20261006T170000
END:VEVENT
END:VCALENDAR