BEGIN:VCALENDAR
PRODID:-//MIADI//DE
BEGIN:VEVENT
UID:Lübeck Day Pass Plus-1334035
SUMMARY:Lübeck Day Pass Plus
DESCRIPTION:
LOCATION:Hansestadt Lübeck, , 23552 Lübeck, Deutschland
DTSTART:20260711T090000
DTEND:20260711T170000
END:VEVENT
END:VCALENDAR