BEGIN:VCALENDAR
PRODID:-//MIADI//DE
BEGIN:VEVENT
UID:Lübeck Day Pass Plus-1333957
SUMMARY:Lübeck Day Pass Plus
DESCRIPTION:
LOCATION:Hansestadt Lübeck, , 23552 Lübeck, Deutschland
DTSTART:20260424T090000
DTEND:20260424T170000
END:VEVENT
END:VCALENDAR