BEGIN:VCALENDAR
PRODID:-//MIADI//DE
BEGIN:VEVENT
UID:Steine, Fossilien &amp; Meer | GeoOstsee Brodtener Ufer -1359291
SUMMARY:Steine\, Fossilien & Meer | GeoOstsee Brodtener Ufer 
DESCRIPTION:Geologische Strandexkursion. Fossilien\, Sedimente\, magmatische und metamorphe Gesteine und die Entstehung der Ostsee. • tickets.geopark-nordisches-steinreich.de
LOCATION:Treffpunkt: Brodtener Ufer\, bei der Treppe zum Strand, Wieskoppel 1 ***Achtung! Treffpunkt verlegt! Siehe Hinweis!***, 23570 Travemünde / Brodten, Deutschland
DTSTART:20260524T140000
DTEND:20260524T170000
END:VEVENT
END:VCALENDAR