BEGIN:VCALENDAR
PRODID:-//MIADI//DE
BEGIN:VEVENT
UID:Steine und mehr | GeoOstsee Brodtener Ufer -1359290
SUMMARY:Steine und mehr | GeoOstsee Brodtener Ufer 
DESCRIPTION:Wie kommt der Seeigel in den Feuerstein? Kristalle am Strand der Ostsee? Eins der aktivsten Kliffs Deutschlands wartet auf dich. • tickets.geopark-nordisches-steinreich.de
LOCATION:Treffpunkt: Brodtener Ufer\, bei der Treppe zum Strand, Wieskoppel 1 ***Achtung! Treffpunkt verlegt! Siehe Hinweis!***, 23570 Travemünde / Brodten, Deutschland
DTSTART:20260523T163000
DTEND:20260523T183000
END:VEVENT
END:VCALENDAR