BEGIN:VCALENDAR
PRODID:-//MIADI//DE
BEGIN:VEVENT
UID:Steine für Kids | GeoOstsee Brodtener Ufer -1356789
SUMMARY:Steine für Kids | GeoOstsee Brodtener Ufer 
DESCRIPTION:Entdecke Steine\, die seit Jahrtausenden hier verborgen lagen. Und am Ende nimmst du deinen eigenen Geolog:innenpass mit nach Hause. • geopark-nordisches-steinreich.de
LOCATION:Treffpunkt: Brodtener Ufer\, bei der Treppe zum Strand, Wieskoppel 1 ***Achtung! Treffpunkt verlegt! Siehe Hinweis!***, 23570 Travemünde / Brodten, Deutschland
DTSTART:20260425T120000
DTEND:20260425T133000
END:VEVENT
END:VCALENDAR