BEGIN:VCALENDAR
PRODID:-//MIADI//DE
BEGIN:VEVENT
UID:Über den Dächern Lübecks.-1349418
SUMMARY:Über den Dächern Lübecks.
DESCRIPTION:
LOCATION:St. Petri (Kultur- und Hochschulkirche), Petrikirchhof 4, 23552 Lübeck, Deutschland
DTSTART:20261118T100000
DTEND:20261118T160000
END:VEVENT
END:VCALENDAR