BEGIN:VCALENDAR
PRODID:-//MIADI//DE
BEGIN:VEVENT
UID:Über den Dächern Lübecks.-1329209
SUMMARY:Über den Dächern Lübecks.
DESCRIPTION:
LOCATION:St. Petri (Kultur- und Hochschulkirche), Petrikirchhof 4, 23552 Lübeck, Deutschland
DTSTART:20260624T100000
DTEND:20260624T160000
END:VEVENT
END:VCALENDAR